BEGIN:VCALENDAR
VERSION:2.0
PRODID:-//National Great Rivers Museum - ECPv6.15.20//NONSGML v1.0//EN
CALSCALE:GREGORIAN
METHOD:PUBLISH
X-WR-CALNAME:National Great Rivers Museum
X-ORIGINAL-URL:https://www.mtrf.org
X-WR-CALDESC:Events for National Great Rivers Museum
REFRESH-INTERVAL;VALUE=DURATION:PT1H
X-Robots-Tag:noindex
X-PUBLISHED-TTL:PT1H
BEGIN:VTIMEZONE
TZID:America/Chicago
BEGIN:DAYLIGHT
TZOFFSETFROM:-0600
TZOFFSETTO:-0500
TZNAME:CDT
DTSTART:20170312T080000
END:DAYLIGHT
BEGIN:STANDARD
TZOFFSETFROM:-0500
TZOFFSETTO:-0600
TZNAME:CST
DTSTART:20171105T070000
END:STANDARD
BEGIN:DAYLIGHT
TZOFFSETFROM:-0600
TZOFFSETTO:-0500
TZNAME:CDT
DTSTART:20180311T080000
END:DAYLIGHT
BEGIN:STANDARD
TZOFFSETFROM:-0500
TZOFFSETTO:-0600
TZNAME:CST
DTSTART:20181104T070000
END:STANDARD
BEGIN:DAYLIGHT
TZOFFSETFROM:-0600
TZOFFSETTO:-0500
TZNAME:CDT
DTSTART:20190310T080000
END:DAYLIGHT
BEGIN:STANDARD
TZOFFSETFROM:-0500
TZOFFSETTO:-0600
TZNAME:CST
DTSTART:20191103T070000
END:STANDARD
END:VTIMEZONE
BEGIN:VEVENT
DTSTART;TZID=America/Chicago:20180703T150000
DTEND;TZID=America/Chicago:20180703T170000
DTSTAMP:20260419T190634
CREATED:20180228T221325Z
LAST-MODIFIED:20180228T221325Z
UID:2344-1530630000-1530637200@www.mtrf.org
SUMMARY:Alton Fireworks
DESCRIPTION:Alton Fireworks
URL:https://www.mtrf.org/event/alton-fireworks/
CATEGORIES:Featured Events,Special Events
END:VEVENT
BEGIN:VEVENT
DTSTART;TZID=America/Chicago:20180519T060000
DTEND;TZID=America/Chicago:20180519T110000
DTSTAMP:20260419T190634
CREATED:20180228T220942Z
LAST-MODIFIED:20180228T220942Z
UID:2339-1526709600-1526727600@www.mtrf.org
SUMMARY:Paddlefest at the Riverlands Migratory Bird Sanctuary
DESCRIPTION:Paddlefest at the Riverlands Migratory Bird Sanctuary in West Alton\, MO – \n11-4.  The Mississippi River Water Trail Association\, the U.S. Army Corps of Engineers\, the Meeting of the Rivers Foundation and their associated partners invite you to experience the Mississippi River first-hand at the Riverlands Paddle Festival in the Riverlands Migratory Bird Sanctuary.  Come out and try paddling canoes\, kayaks\, and stand-up paddleboards in the calm backwaters of Ellis Bay in West Alton\, Mo. Certified instructors will be available to answer any questions you have about paddling in our area. This event is open to all ages and skill levels. Kids 11 years old and older can paddle solo with their parent or guardian permission. Kids 10 years and younger can paddle with an adult in a canoe or tandem kayak.   For more information\, call (618) 462-6979. Admission  $5/person
URL:https://www.mtrf.org/event/paddlefest-at-the-riverlands-migratory-bird-sanctuary/
CATEGORIES:Featured Events,Special Events
END:VEVENT
BEGIN:VEVENT
DTSTART;TZID=America/Chicago:20180519T060000
DTEND;TZID=America/Chicago:20180519T110000
DTSTAMP:20260419T190634
CREATED:20180125T014033Z
LAST-MODIFIED:20180202T223608Z
UID:1999-1526709600-1526727600@www.mtrf.org
SUMMARY:Riverlands Paddle Festival
DESCRIPTION:Riverlands Paddle Festival\nMay 19\, 2018 \nThe Riverlands Paddle Festival is held at the pavilion on Riverlands Way in West Alton\, MO. The event is from 11-4\, cost $5 per participant and allows attendees to try out various canoes\, kayaks\, and paddleboards. For more information\, please call 618.462.6979.
URL:https://www.mtrf.org/event/riverlands-paddle-festival/
LOCATION:Riverlands Migratory Bird Sanctuary\, 301 Riverlands Way\, West Alton\, MO\, 63386
CATEGORIES:Special Events
END:VEVENT
BEGIN:VEVENT
DTSTART;TZID=America/Chicago:20180428T040000
DTEND;TZID=America/Chicago:20180428T060000
DTSTAMP:20260419T190634
CREATED:20180228T042404Z
LAST-MODIFIED:20180228T042404Z
UID:2327-1524888000-1524895200@www.mtrf.org
SUMMARY:Brownies - Outdoor Art Creator
DESCRIPTION:Outdoor Art Creator\, 9-11 and 1-3\, Brownie girls will explore art and the natural world during a leisurely morning outdoors.  $2 per scout
URL:https://www.mtrf.org/event/brownies-outdoor-art-creator/
CATEGORIES:Girl Scout Events
END:VEVENT
BEGIN:VEVENT
DTSTART;VALUE=DATE:20180406
DTEND;VALUE=DATE:20180408
DTSTAMP:20260419T190634
CREATED:20180124T225843Z
LAST-MODIFIED:20180124T225843Z
UID:1978-1523041200-1523127599@www.mtrf.org
SUMMARY:Mission Stream Clean
DESCRIPTION:Mission Stream Clean. For more information\, visit www.greenwaynetwork.org.
URL:https://www.mtrf.org/event/mission-stream-clean/
CATEGORIES:Special Events
END:VEVENT
BEGIN:VEVENT
DTSTART;TZID=America/Chicago:20180331T040000
DTEND;TZID=America/Chicago:20180331T060000
DTSTAMP:20260419T190634
CREATED:20180228T040345Z
LAST-MODIFIED:20180320T205909Z
UID:2316-1522468800-1522476000@www.mtrf.org
SUMMARY:Girl Scout Bugs for Brownies
DESCRIPTION:Girl Scout Bugs for Brownies\, 9-11am and 1-3pm – Brownie girls will engage in hands-on activities analyzing bugs and make their own bug! $2 per scout\, sign up online at www.gsofsi.org
URL:https://www.mtrf.org/event/girl-scout-bugs-for-brownies/
CATEGORIES:Girl Scout Events
END:VEVENT
BEGIN:VEVENT
DTSTART;VALUE=DATE:20180323
DTEND;VALUE=DATE:20180325
DTSTAMP:20260419T190634
CREATED:20180124T225730Z
LAST-MODIFIED:20180124T225730Z
UID:1976-1521831600-1521917999@www.mtrf.org
SUMMARY:Alton Half Marathon
DESCRIPTION:Alton Half Marathon. For more information\, visit altonhalf.com.
URL:https://www.mtrf.org/event/alton-half-marathon/
CATEGORIES:Special Events
END:VEVENT
BEGIN:VEVENT
DTSTART;TZID=America/Chicago:20180317T080000
DTEND;TZID=America/Chicago:20180317T100000
DTSTAMP:20260419T190634
CREATED:20180228T035959Z
LAST-MODIFIED:20180228T035959Z
UID:2309-1521273600-1521280800@www.mtrf.org
SUMMARY:Girl Scout Think Like and Engineer for Brownies
DESCRIPTION:Girl Scout Think Like and Engineer for Brownies\, 9-11 and 1-3 p.m. – Brownie girls will work as a team to build their own beaver habitat as a part of their STEM Journey! $2 per scout
URL:https://www.mtrf.org/event/girl-scout-think-like-and-engineer-for-brownies-2/
CATEGORIES:Girl Scout Events
END:VEVENT
BEGIN:VEVENT
DTSTART;TZID=America/Chicago:20180310T070000
DTEND;TZID=America/Chicago:20180310T090000
DTSTAMP:20260419T190634
CREATED:20180228T035626Z
LAST-MODIFIED:20180228T035643Z
UID:2304-1520665200-1520672400@www.mtrf.org
SUMMARY:Girl Scout Bridges for Juniors
DESCRIPTION:Girl Scout Bridges for Juniors\, 1 – 3 p.m.  – Junior girls will work as a team to design engineering strategies and construct their own bridges! $2 per scout
URL:https://www.mtrf.org/event/girl-scout-bridges-for-juniors/
CATEGORIES:Girl Scout Events
END:VEVENT
BEGIN:VEVENT
DTSTART;TZID=America/Chicago:20180303T030000
DTEND;TZID=America/Chicago:20180303T050000
DTSTAMP:20260419T190634
CREATED:20180228T035510Z
LAST-MODIFIED:20180228T035510Z
UID:2302-1520046000-1520053200@www.mtrf.org
SUMMARY:Girl Scout Bridges for Brownies
DESCRIPTION:Girl Scout Bridges for Brownies\, 9 – 11 a.m. – Brownie girls will work as a team to design engineering strategies and construct their own bridges! $2 per scout
URL:https://www.mtrf.org/event/girl-scout-bridges-for-brownies/
CATEGORIES:Girl Scout Events
END:VEVENT
BEGIN:VEVENT
DTSTART;VALUE=DATE:20180216
DTEND;VALUE=DATE:20180219
DTSTAMP:20260419T190634
CREATED:20180124T225606Z
LAST-MODIFIED:20180203T005844Z
UID:1974-1518804000-1518976799@www.mtrf.org
SUMMARY:Masters of the Sky - 3 shows each day
DESCRIPTION:February 17 and 18\, 2018 \nMasters of the Sky shows will be offered at 11am\, 1pm\, and 3 p.m. Tickets go on sale January 1\, 2018. Adult tickets cost $5 and children are $3. Children 3 and under are free.
URL:https://www.mtrf.org/event/masters-of-the-sky-3-shows-each-day/
LOCATION:National Great Rivers Museum\, #2 Locks and Dam Way\, East Alton\, IL\, 62024\, United States
CATEGORIES:Eagle Event,Special Events
END:VEVENT
BEGIN:VEVENT
DTSTART;VALUE=DATE:20180126
DTEND;VALUE=DATE:20180129
DTSTAMP:20260419T190634
CREATED:20180124T224758Z
LAST-MODIFIED:20180124T224925Z
UID:1969-1516989600-1517162399@www.mtrf.org
SUMMARY:Clarksville Eagle Days
DESCRIPTION:Clarksville Eagle Days is held at the Appleshed in Clarksville\, MO and at Lock 24 on the Mississippi River. Visitors can tour the locks\, view live Bald Eagles on the Riverfront\, enjoy crafts at the Appleshed along with Masters of the Sky shows.
URL:https://www.mtrf.org/event/clarksville-eagle-days/
LOCATION:Appleshed\, 702 S 2nd Street\, Clarksville\, Missouri
CATEGORIES:Eagle Event,Special Events
END:VEVENT
BEGIN:VEVENT
DTSTART;TZID=America/Chicago:20180120T070000
DTEND;TZID=America/Chicago:20180120T100000
DTSTAMP:20260419T190634
CREATED:20180124T223807Z
LAST-MODIFIED:20180124T223807Z
UID:1967-1516431600-1516442400@www.mtrf.org
SUMMARY:Scout Eagle Day- for Girl Scouts
DESCRIPTION:Scout Eagle Day 1 – 4 p.m. for Girl Scouts \nThis event is held at the National Great Rivers Museum. There will be a $5 fee per participant. Register online at www.gsofsi.org.
URL:https://www.mtrf.org/event/scout-eagle-day-for-girl-scouts/
LOCATION:National Great Rivers Museum\, #2 Locks and Dam Way\, East Alton\, IL\, 62024\, United States
CATEGORIES:Girl Scout Events
END:VEVENT
BEGIN:VEVENT
DTSTART;TZID=America/Chicago:20180120T030000
DTEND;TZID=America/Chicago:20180120T060000
DTSTAMP:20260419T190634
CREATED:20180124T222635Z
LAST-MODIFIED:20180124T222703Z
UID:1962-1516417200-1516428000@www.mtrf.org
SUMMARY:Scout Eagle Day- for Cub Scouts
DESCRIPTION:Scout Eagle Day from 9-12 p.m. for Cub Scouts and from 1 – 4 p.m. for Girl Scouts \nThis event is held at the National Great Rivers Museum. There will be a $5 fee per participant. Cub scouts can register by calling 318.462.6979 and Girl Scouts can register online at www.gsofsi.org.
URL:https://www.mtrf.org/event/scout-eagle-day-for-cub-scouts/
LOCATION:National Great Rivers Museum\, #2 Locks and Dam Way\, East Alton\, IL\, 62024\, United States
END:VEVENT
BEGIN:VEVENT
DTSTART;TZID=America/Chicago:20180106T040000
DTEND;TZID=America/Chicago:20180106T080000
DTSTAMP:20260419T190634
CREATED:20180123T041639Z
LAST-MODIFIED:20180123T041639Z
UID:1958-1515211200-1515225600@www.mtrf.org
SUMMARY:Alton Audubon Eagle Ice Festival
DESCRIPTION:This event is held at the Alton Regional Convention and Visitors Bureau and the Audubon Center at Riverlands.   There will be $5 shuttle tours starting on January 6\, 13\, 20\, 27 at 10:30\, 11:30\, 12:30 and 1:30 along with a live Eagle display and ice carving. For reservations\, call 800.258.6645 or visitalton.com/shuttle.
URL:https://www.mtrf.org/event/alton-audubon-eagle-ice-festival/
CATEGORIES:Special Events
END:VEVENT
END:VCALENDAR