BEGIN:VCALENDAR
VERSION:2.0
PRODID:-//National Great Rivers Museum - ECPv6.15.20//NONSGML v1.0//EN
CALSCALE:GREGORIAN
METHOD:PUBLISH
X-ORIGINAL-URL:https://www.mtrf.org
X-WR-CALDESC:Events for National Great Rivers Museum
REFRESH-INTERVAL;VALUE=DURATION:PT1H
X-Robots-Tag:noindex
X-PUBLISHED-TTL:PT1H
BEGIN:VTIMEZONE
TZID:America/Chicago
BEGIN:DAYLIGHT
TZOFFSETFROM:-0600
TZOFFSETTO:-0500
TZNAME:CDT
DTSTART:20170312T080000
END:DAYLIGHT
BEGIN:STANDARD
TZOFFSETFROM:-0500
TZOFFSETTO:-0600
TZNAME:CST
DTSTART:20171105T070000
END:STANDARD
BEGIN:DAYLIGHT
TZOFFSETFROM:-0600
TZOFFSETTO:-0500
TZNAME:CDT
DTSTART:20180311T080000
END:DAYLIGHT
BEGIN:STANDARD
TZOFFSETFROM:-0500
TZOFFSETTO:-0600
TZNAME:CST
DTSTART:20181104T070000
END:STANDARD
BEGIN:DAYLIGHT
TZOFFSETFROM:-0600
TZOFFSETTO:-0500
TZNAME:CDT
DTSTART:20190310T080000
END:DAYLIGHT
BEGIN:STANDARD
TZOFFSETFROM:-0500
TZOFFSETTO:-0600
TZNAME:CST
DTSTART:20191103T070000
END:STANDARD
BEGIN:DAYLIGHT
TZOFFSETFROM:-0600
TZOFFSETTO:-0500
TZNAME:CDT
DTSTART:20200308T080000
END:DAYLIGHT
BEGIN:STANDARD
TZOFFSETFROM:-0500
TZOFFSETTO:-0600
TZNAME:CST
DTSTART:20201101T070000
END:STANDARD
BEGIN:DAYLIGHT
TZOFFSETFROM:-0600
TZOFFSETTO:-0500
TZNAME:CDT
DTSTART:20210314T080000
END:DAYLIGHT
BEGIN:STANDARD
TZOFFSETFROM:-0500
TZOFFSETTO:-0600
TZNAME:CST
DTSTART:20211107T070000
END:STANDARD
END:VTIMEZONE
BEGIN:VEVENT
DTSTART;TZID=America/Chicago:20200625T030000
DTEND;TZID=America/Chicago:20200704T120000
DTSTAMP:20260419T105651
CREATED:20200626T020841Z
LAST-MODIFIED:20200630T003647Z
UID:8660-1593054000-1593864000@www.mtrf.org
SUMMARY:Museum Reopening July 1st
DESCRIPTION:The National Great Rivers Museum will be reopening as of July 1st. \nPublic and Group tours will resume with public tours at 10 am\, 1 pm and 3 pm and group tours at 9 am\, 11 pm and 2 pm. \nDue to COVID 19 restrictions to use of the elevator\, tours will not be going to the top of the lock and dam. \n 
URL:https://www.mtrf.org/event/museum-reopening-july-1st/
END:VEVENT
BEGIN:VEVENT
DTSTART;TZID=America/Chicago:20200516T050000
DTEND;TZID=America/Chicago:20200516T110000
DTSTAMP:20260419T105651
CREATED:20181213T040150Z
LAST-MODIFIED:20200202T022210Z
UID:2494-1589605200-1589626800@www.mtrf.org
SUMMARY:Paddlefest at the Riverlands
DESCRIPTION:Paddle Ellis Bay at Riverlands Migratory Bird Sanctuary\nKayaks\, paddle boards\, and canoes provided
URL:https://www.mtrf.org/event/paddlefest/
LOCATION:Riverlands Migratory Bird Sanctuary\, 301 Riverlands Way\, West Alton\, MO\, 63386
CATEGORIES:Featured Events
END:VEVENT
BEGIN:VEVENT
DTSTART;TZID=America/Chicago:20200328T040000
DTEND;TZID=America/Chicago:20200328T060000
DTSTAMP:20260419T105651
CREATED:20181213T032124Z
LAST-MODIFIED:20200202T021813Z
UID:2474-1585368000-1585375200@www.mtrf.org
SUMMARY:Girl Scouts Think Like an Engineer - Brownies
DESCRIPTION:Gain experience in teambuilding\, critical thinking\, public speaking\, and the application of knowledge to real world problems. Troops will record and discuss ideas inspired by Ranger-led presentations and activities and then apply those ideas when they run real scientific tests on various methods of treating different kinds of potentially contaminated water. Part of the programs involves building a functioning\, field expedient filtration system using simple materials. \nParent and Troop Leader: $8 per brownie. Register through the Girl Scouts of Southern Illinois. Girls will complete steps in completing the Think like an Engineer Journey (available in shop). After the program has concluded\, a guided tour of Melvin Price Locks and Dam is available. \nFor more information contact the Girl Scouts of Southern Illinois
URL:https://www.mtrf.org/event/girl-scouts-think-like-an-engineer-part-1-water-quality-brownies-and-juniors/
LOCATION:National Great Rivers Museum\, #2 Locks and Dam Way\, East Alton\, IL\, 62024\, United States
CATEGORIES:Girl Scout Events
END:VEVENT
BEGIN:VEVENT
DTSTART;TZID=America/Chicago:20200307T030000
DTEND;TZID=America/Chicago:20200307T050000
DTSTAMP:20260419T105651
CREATED:20181213T031727Z
LAST-MODIFIED:20200202T021345Z
UID:2472-1583550000-1583557200@www.mtrf.org
SUMMARY:Girl Scouts Bridges: Juniors
DESCRIPTION:Gain experience in team building\, critical thinking\, public speaking\, and the application of knowledge to real world problems. Juniors are introduced to the concept of teamwork and design strategies on engineering projects. Troops will record and discuss ideas inspired by Ranger-led presentations and activities and then apply those ideas when they construct their own bridges that we test for maximum load in a friendly competition. \nParent and Troop Leader: $7 per scout. Girls will earn and receive their Building Bridges badge. After the program has concluded\, a free guided tour of Melvin Price Locks and Dam is available. We ask for 1 adult for ever 4 Juniors. \nFor more information contact the Girl Scouts of Southern Illinois.
URL:https://www.mtrf.org/event/girl-scouts-bridges-juniors/
LOCATION:National Great Rivers Museum\, #2 Locks and Dam Way\, East Alton\, IL\, 62024\, United States
CATEGORIES:Girl Scout Events
END:VEVENT
BEGIN:VEVENT
DTSTART;TZID=America/Chicago:20200229T030000
DTEND;TZID=America/Chicago:20200229T170000
DTSTAMP:20260419T105651
CREATED:20181213T031357Z
LAST-MODIFIED:20200202T015402Z
UID:2467-1582945200-1582995600@www.mtrf.org
SUMMARY:Girl Scouts Bridges: Brownies
DESCRIPTION:Gain experience in team building\, critical thinking\, public speaking\, and the application of knowledge to real world problems. Brownies are introduced to the concept of teamwork and design strategies on engineering projects. Girls will record and discuss ideas inspired by Ranger-led presentations and activities and then apply those ideas when they construct their own bridges that are tested for maximum load in a friendly competition. \nParent and Troop Leader: Cost $7 per scout – register through Register through the Girl Scouts of Southern Illinois  office. Girls will earn and receive their Building Bridges badge. After the program has concluded\, guided tours of Melvin Price Locks and Dam are available. \n 
URL:https://www.mtrf.org/event/girl-scouts-bridges-brownies/
LOCATION:National Great Rivers Museum\, #2 Locks and Dam Way\, East Alton\, IL\, 62024\, United States
CATEGORIES:Girl Scout Events
END:VEVENT
BEGIN:VEVENT
DTSTART;VALUE=DATE:20200214
DTEND;VALUE=DATE:20200216
DTSTAMP:20260419T105651
CREATED:20181020T013736Z
LAST-MODIFIED:20200120T023245Z
UID:2406-1581703200-1581789599@www.mtrf.org
SUMMARY:Master's of the Sky
DESCRIPTION:Attention all Eagle and Raptor Enthusiasts!   \nThe U.S. Army Corps of Engineers will offer live Raptor shows to the public on February 15\, 2020 at the National Great Rivers Museum in Alton\, IL. \nThe Raptor Awareness show delves into topics surrounding raptors\, features flying demonstrations and allows for an up-close personal view of each bird on the glove.  Visitors can learn all about the adaptations that make raptors special. \nShows will be located in the Museum classroom\, limited to the first 85 participants and presented by the World Bird Sanctuary. \nShowtimes are each day at 11\, 1\, and 3 p.m. with a special live Bald Eagle viewing opportunity at 12 p.m.  This is a kid friendly event.  Education stations for bird watching information\, Eagle crafts\, movies and biological information tables will be located through out the museum gallery. \nMelvin Price Locks and Dam tours focusing on the importance of navigation on the Mississippi River along with a unique opportunity to view Bald Eagles and other birds from atop the dam will be available every hour during this event.   Lock and Dam tours are outside\, on top of the locks allowing for views of towboats and barges passing through and the Melvin Price Locks and Dam. \nThe Riverlands Migratory Bird Sanctuary is located upriver of the Melvin Price Locks and Dam.  Both areas play host to thousands of species of waterfowl that are either passing through\, or stay in the area through the winter.  For Locks and Dam tour information\, maps and security restrictions\, please visit www.mtrf.org or call the National Great Rivers Museum at 618.462.6979.
URL:https://www.mtrf.org/event/masters-of-the-sky/
LOCATION:National Great Rivers Museum\, #2 Locks and Dam Way\, East Alton\, IL\, 62024\, United States
CATEGORIES:Eagle Event
END:VEVENT
BEGIN:VEVENT
DTSTART;TZID=America/Chicago:20200124T190000
DTEND;TZID=America/Chicago:20200125T113000
DTSTAMP:20260419T105651
CREATED:20200120T030257Z
LAST-MODIFIED:20200120T033359Z
UID:7258-1579892400-1579951800@www.mtrf.org
SUMMARY:Mississippi Meanderings 2020
DESCRIPTION:Mississippi Meanderings 2020  \nRIVER people need to get together\, especially during the winter. What better opportunity than at the Mississippi River Water Trail Association‘s January event where you and your friends can meet other paddlers and learn from some great river experts? \nOur line up of 3 speakers this year is EXCELLENT \nJanet Moreland – LONG distance paddler\nScot Mansker – Co-founder and organizer of a 340 mile paddling race across the state of Missouri\, the MR340\nDavid Lobbig – Missouri History Museum Curator of Environmental Life – There is a Mississippi River exhibit right now at the Museum you don’t want to miss. \nTickets are only $10 which includes a social time with light refreshments between presenters. Finish the night at Bluff City Grill for dinner on your own dime. Best ever! Only 100 tickets available. \nClick here for TICKETS
URL:https://www.mtrf.org/event/mississippi-meanderings-2020/
LOCATION:National Great Rivers Museum\, #2 Locks and Dam Way\, East Alton\, IL\, 62024\, United States
CATEGORIES:Community
END:VEVENT
BEGIN:VEVENT
DTSTART;TZID=America/Chicago:20200122T100000
DTEND;TZID=America/Chicago:20200122T123000
DTSTAMP:20260419T105651
CREATED:20200120T024551Z
LAST-MODIFIED:20200120T030622Z
UID:7255-1579687200-1579696200@www.mtrf.org
SUMMARY:Flood Prep Workshop
DESCRIPTION:Flood Prep Workshop \nOfficials with the Illinois Emergency Management Agency (IEMA)\, Illinois Department of Insurance (IDOI) and Illinois Department of Natural Resources are launching a FloodPrep tour to help prepare communities – both residents and local governments — for the possibility of spring flooding. These events will focus on personal preparedness and the importance of flood insurance. \nWhile the calendar may still say winter\, the time to prepare for spring flooding is now. Most flood insurance policies take 30-days to go into effect. The National Weather Service suggests that abnormally moist ground conditions and unseasonably higher river levels in the upper Midwest could lead to a considerable risk for repeat flooding this spring. With this in mind\, state officials are encouraging Illinois residents to consider flood insurance before the next flood occurs.
URL:https://www.mtrf.org/event/flood-prep-workshop/
LOCATION:National Great Rivers Museum\, #2 Locks and Dam Way\, East Alton\, IL\, 62024\, United States
CATEGORIES:Community
END:VEVENT
BEGIN:VEVENT
DTSTART;VALUE=DATE:20190725
DTEND;VALUE=DATE:20190805
DTSTAMP:20260419T105651
CREATED:20180228T221749Z
LAST-MODIFIED:20190305T032629Z
UID:2348-1564081200-1564945199@www.mtrf.org
SUMMARY:Alton Kidcation
DESCRIPTION:Alton Kidcation Event\, The summer is slipping through your fingers\, kids will be headed back to school\, and you haven’t even had time to think about a family vacation. Sound familiar? We’ve all been there! Your summer escape is waiting for you where the great rivers meet the road . . . and the kids are in charge! We’ll be rolling out the red carpet for a Kid’cation July 26 – Aug. 4. The Meeting of the Great Rivers is your destination for 10 days of great getaway deals (and free family events) where the kids are treated like royalty and families can enjoy the affordable fun. Here’s just a glimpse of what we have in store.  Visit www.visitalton.com for more information.
URL:https://www.mtrf.org/event/alton-kidcation/
CATEGORIES:Featured Events,Special Events
END:VEVENT
BEGIN:VEVENT
DTSTART;VALUE=DATE:20190627
DTEND;VALUE=DATE:20190629
DTSTAMP:20260419T105651
CREATED:20190305T032816Z
LAST-MODIFIED:20190305T032816Z
UID:2524-1561662000-1561748399@www.mtrf.org
SUMMARY:YMCA Summer Camp
DESCRIPTION:YMCA Summer Camp – visit www.gwrymca.org
URL:https://www.mtrf.org/event/ymca-outdoor-rookie-rangers-2/
CATEGORIES:Special Events
END:VEVENT
BEGIN:VEVENT
DTSTART;VALUE=DATE:20190620
DTEND;VALUE=DATE:20190622
DTSTAMP:20260419T105651
CREATED:20180228T223119Z
LAST-MODIFIED:20190305T031552Z
UID:2356-1561057200-1561143599@www.mtrf.org
SUMMARY:YMCA Summer Camp
DESCRIPTION:YMCA Summer Camp – visit www.gwrymca.org
URL:https://www.mtrf.org/event/ymca-outdoor-rookie-rangers/
CATEGORIES:Special Events
END:VEVENT
BEGIN:VEVENT
DTSTART;VALUE=DATE:20190613
DTEND;VALUE=DATE:20190615
DTSTAMP:20260419T105651
CREATED:20180228T223219Z
LAST-MODIFIED:20190305T031007Z
UID:2358-1560452400-1560538799@www.mtrf.org
SUMMARY:YMCA Summer Camp
DESCRIPTION:YMCA Summer Camp –  visit www.gwrymca.org
URL:https://www.mtrf.org/event/ymca-water-rangers/
CATEGORIES:Special Events
END:VEVENT
BEGIN:VEVENT
DTSTART;TZID=America/Chicago:20190525T040000
DTEND;TZID=America/Chicago:20190525T060000
DTSTAMP:20260419T105651
CREATED:20181213T040315Z
LAST-MODIFIED:20181213T040315Z
UID:2496-1558756800-1558764000@www.mtrf.org
SUMMARY:Girl Scouts Bugs and Butterflies: Brownies and Juniors
DESCRIPTION:Scouts will engage in hands-on activities analyzing bugs and insects\, including using a real microscope and making their own bug. Scouts will distinguish between varieties of invertebrates\, gain an understanding of invertebrate physiology\, and recognize the importance of these small animals in maintaining a healthy environment. Registration is capped at 20 scouts per session. Materials are provided
URL:https://www.mtrf.org/event/girl-scouts-bugs-and-butterflies-brownies-and-juniors/
LOCATION:Riverlands Migratory Bird Sanctuary\, 301 Riverlands Way\, West Alton\, MO\, 63386
END:VEVENT
BEGIN:VEVENT
DTSTART;TZID=America/Chicago:20190504T040000
DTEND;TZID=America/Chicago:20190504T060000
DTSTAMP:20260419T105651
CREATED:20181213T035813Z
LAST-MODIFIED:20181213T035813Z
UID:2492-1556942400-1556949600@www.mtrf.org
SUMMARY:Girl Scouts Outdoor Art Creator: Brownies and Juniors
DESCRIPTION:Scouts will explore art and the natural world. A leisurely morning on the river bank will serve as their inspiration: a resource for found objects with which to create works of art; sights and sounds to inspire poems\, stories\, or songs; natural landscapes and industrial structures as subjects for sketching or photography. Materials\, with the exception of cameras\, will be provided. Smart phones and digital cameras are welcome.
URL:https://www.mtrf.org/event/girl-scouts-outdoor-art-creator-brownies-and-juniors/
LOCATION:National Great Rivers Museum\, #2 Locks and Dam Way\, East Alton\, IL\, 62024\, United States
END:VEVENT
BEGIN:VEVENT
DTSTART;TZID=America/Chicago:20190428T060000
DTEND;TZID=America/Chicago:20190428T120000
DTSTAMP:20260419T105651
CREATED:20181213T034811Z
LAST-MODIFIED:20181213T034811Z
UID:2487-1556431200-1556452800@www.mtrf.org
SUMMARY:St. Louis Earth Day Festival
DESCRIPTION:11 to 5 daily\nNGRM USACE rangers will be on hand with exciting water safety activities and giveaways.
URL:https://www.mtrf.org/event/st-louis-earth-day-festival/
LOCATION:Forest Park\, St. Louis\, Missouri\, 5595 Grand Drive\, St. Louis\, Missouri\, 63112
END:VEVENT
BEGIN:VEVENT
DTSTART;TZID=America/Chicago:20190427T060000
DTEND;TZID=America/Chicago:20190427T120000
DTSTAMP:20260419T105651
CREATED:20181213T034457Z
LAST-MODIFIED:20181213T035152Z
UID:2484-1556344800-1556366400@www.mtrf.org
SUMMARY:St. Louis Earth Day Festival
DESCRIPTION:11 to 5 daily at Forest Park on the Muny Grounds\nNGRM USACE Rangers will be on hand with exciting water safety activities and giveaways!
URL:https://www.mtrf.org/event/forest-park-earth-day/
LOCATION:Forest Park\, St. Louis\, Missouri\, 5595 Grand Drive\, St. Louis\, Missouri\, 63112
CATEGORIES:Special Events
END:VEVENT
BEGIN:VEVENT
DTSTART;VALUE=DATE:20190422
DTEND;VALUE=DATE:20190426
DTSTAMP:20260419T105651
CREATED:20180125T013653Z
LAST-MODIFIED:20190305T032338Z
UID:1995-1555959600-1556218799@www.mtrf.org
SUMMARY:Every Kid in a Park School Days
DESCRIPTION:Every Kid in a Park School Days\nApril 23\, 24 & 25\, 2019 \nStudents from area schools will be visiting the Riverlands Migratory Bird Sanctuary to participate in hands-on learning activities. Teachers must pre-register for this event by calling 618.462.6979.
URL:https://www.mtrf.org/event/every-kid-in-a-park-school-days/
LOCATION:Riverlands Migratory Bird Sanctuary\, 301 Riverlands Way\, West Alton\, MO\, 63386
END:VEVENT
BEGIN:VEVENT
DTSTART;TZID=America/Chicago:20190407T040000
DTEND;TZID=America/Chicago:20190407T110000
DTSTAMP:20260419T105651
CREATED:20181213T033059Z
LAST-MODIFIED:20181213T033059Z
UID:2482-1554609600-1554634800@www.mtrf.org
SUMMARY:Meet Me (Outdoors) St. Louis
DESCRIPTION:Join NGRM rangers and regional students at this annual event. Learn about USACE’s in-school programming\, bird conservation\, and native plants while exploring the beautiful gardens.
URL:https://www.mtrf.org/event/meet-me-outdoors-st-louis/
LOCATION:Missouri Botanical Garden
END:VEVENT
BEGIN:VEVENT
DTSTART;TZID=America/Chicago:20190406T050000
DTEND;TZID=America/Chicago:20190406T110000
DTSTAMP:20260419T105651
CREATED:20181213T032743Z
LAST-MODIFIED:20181213T032932Z
UID:2478-1554526800-1554548400@www.mtrf.org
SUMMARY:Meet Me (Outdoors) in St. Louis
DESCRIPTION:Join NGRM rangers and regional students at this annual event. Learn about USACE’s in-school programming\, bird conservation\, and native plants while exploring the beautiful gardens.
URL:https://www.mtrf.org/event/meet-me-outdoors-in-st-louis/
LOCATION:Missouri Botanical Garden
END:VEVENT
BEGIN:VEVENT
DTSTART;TZID=America/Chicago:20190216T030000
DTEND;TZID=America/Chicago:20190216T050000
DTSTAMP:20260419T105651
CREATED:20180124T225206Z
LAST-MODIFIED:20181020T015021Z
UID:1972-1550286000-1550293200@www.mtrf.org
SUMMARY:Bonkers for Birds Celebration
DESCRIPTION:Bonkers for Birds Celebration will be held in the outside tent at the National Great Rivers Museum. Attendees will receive a certificate of appreciation\, their original artwork\, along with their Bonker for Birds field guide. A live Masters of the Sky show will be at 10 a.m. for all Bonkers for Birds participants. \n\nEvery teacher and student that participated in the Field Guide art contest are invited to attend the Bonkers for Birds Awards Ceremony on Saturday\, February 18th at the National Great Rivers Museum in Alton\, IL. Winning students will be recognized by the Commander of the St. Louis District US Army Corps of Engineers. They will receive a copy of the Bonkers for Birds Field Guide\, a poster of their winning drawing\, and a certificate of recognition for their outstanding work. Students should check in at the National Great Rivers Museum at 8:30am. The Awards Ceremony begins at 9:00am and will be followed at 10:00am by a Live Bird Show.\nThis is an annual event and teachers that are interested in participating should contact the National Great Rivers Museum at 618.462.6979 for information.\n\n 
URL:https://www.mtrf.org/event/bonkers-for-birds-celebration/
LOCATION:National Great Rivers Museum\, #2 Locks and Dam Way\, East Alton\, IL\, 62024\, United States
CATEGORIES:Eagle Event,Special Events
END:VEVENT
BEGIN:VEVENT
DTSTART;TZID=America/Chicago:20190127T030000
DTEND;TZID=America/Chicago:20190127T100000
DTSTAMP:20260419T105651
CREATED:20181213T024723Z
LAST-MODIFIED:20181213T030556Z
UID:2454-1548558000-1548583200@www.mtrf.org
SUMMARY:Clarksville Eagle Days
DESCRIPTION:
URL:https://www.mtrf.org/event/clarksville-eagle-days-2/
LOCATION:Lock and Dam 24\, 350 N 1st St.\, Clarksville\, Missouri\, 63336
END:VEVENT
BEGIN:VEVENT
DTSTART;TZID=America/Chicago:20190126T080000
DTEND;TZID=America/Chicago:20190126T120000
DTSTAMP:20260419T105651
CREATED:20181213T030138Z
LAST-MODIFIED:20181213T030138Z
UID:2460-1548489600-1548504000@www.mtrf.org
SUMMARY:Mississippi Meanderings
DESCRIPTION:Exclusive tour of Melvin Price Locks and Dam at 2 p.m.\nGuest Series 3:oo p.m. to 6:00 p.m.:\n\nWater Ways Council Midwest Region Vice President Paul C. Rhode\nCenter for American Archaeology Executive Director Dr. Jason King\nBryan Hopkins: “Where the Rivers are Still King: Paddling the Confluence of the White\, Arkansas\, and Mississippi Rivers”\nTickets for the Guest Speaker Series are $7.50\n\n\nLight refreshments will be served.\n\n 
URL:https://www.mtrf.org/event/mississippi-meanderings/
LOCATION:National Great Rivers Museum\, #2 Locks and Dam Way\, East Alton\, IL\, 62024\, United States
END:VEVENT
BEGIN:VEVENT
DTSTART;TZID=America/Chicago:20190126T040000
DTEND;TZID=America/Chicago:20190126T090000
DTSTAMP:20260419T105651
CREATED:20181213T024853Z
LAST-MODIFIED:20181213T030643Z
UID:2457-1548475200-1548493200@www.mtrf.org
SUMMARY:Clarksville Eagle Days
DESCRIPTION:
URL:https://www.mtrf.org/event/clarksville-eagle-days-3/
LOCATION:Lock and Dam 24\, 350 N 1st St.\, Clarksville\, Missouri\, 63336
END:VEVENT
BEGIN:VEVENT
DTSTART;TZID=America/Chicago:20190119T070000
DTEND;TZID=America/Chicago:20190119T100000
DTSTAMP:20260419T105651
CREATED:20181213T022228Z
LAST-MODIFIED:20181213T022228Z
UID:2442-1547881200-1547892000@www.mtrf.org
SUMMARY:Girl Scout Eagle Day
DESCRIPTION:Girl Scout Flyer 2019
URL:https://www.mtrf.org/event/girl-scout-eagle-day/
LOCATION:National Great Rivers Museum\, #2 Locks and Dam Way\, East Alton\, IL\, 62024\, United States
ORGANIZER;CN="Meeting of the Rivers Foundation":MAILTO:www.meetingoftherivers@gmail.com
END:VEVENT
BEGIN:VEVENT
DTSTART;TZID=America/Chicago:20190119T030000
DTEND;TZID=America/Chicago:20190119T100000
DTSTAMP:20260419T105651
CREATED:20181020T012251Z
LAST-MODIFIED:20181110T052649Z
UID:2400-1547866800-1547892000@www.mtrf.org
SUMMARY:Scout Eagle Day
DESCRIPTION:Girl Scouts and Boy Scouts may register by calling the National Great Rivers Museum for a live eagle meet and greet\, eagle-themed activities\, and eagle viewing from the top of Melvin Price Locks and Dam. $5 Registration Fee. \nEagleWatching2019 \n 
URL:https://www.mtrf.org/event/scout-eagle-day/
LOCATION:National Great Rivers Museum\, #2 Locks and Dam Way\, East Alton\, IL\, 62024\, United States
CATEGORIES:Boy Scout Event,Eagle Event,Girl Scout Events,Special Events
END:VEVENT
BEGIN:VEVENT
DTSTART;TZID=America/Chicago:20190119T030000
DTEND;TZID=America/Chicago:20190119T060000
DTSTAMP:20260419T105651
CREATED:20181213T021932Z
LAST-MODIFIED:20181213T021932Z
UID:2436-1547866800-1547877600@www.mtrf.org
SUMMARY:Cub Scout Eagle Day
DESCRIPTION:$5 per Scout \nCub Scout Flyer 2019
URL:https://www.mtrf.org/event/cub-scout-eagle-day/
LOCATION:National Great Rivers Museum\, #2 Locks and Dam Way\, East Alton\, IL\, 62024\, United States
ORGANIZER;CN="Meeting of the Rivers Foundation":MAILTO:www.meetingoftherivers@gmail.com
END:VEVENT
BEGIN:VEVENT
DTSTART;TZID=America/Chicago:20190105T040000
DTEND;TZID=America/Chicago:20190105T080000
DTSTAMP:20260419T105651
CREATED:20181213T023242Z
LAST-MODIFIED:20181213T023242Z
UID:2447-1546660800-1546675200@www.mtrf.org
SUMMARY:Eagle Ice Festival
DESCRIPTION:AltonEagleWatching2019
URL:https://www.mtrf.org/event/eagle-ice-festival/
LOCATION:Riverlands Migratory Bird Sanctuary\, 301 Riverlands Way\, West Alton\, MO\, 63386
CATEGORIES:Eagle Event,Special Events
END:VEVENT
BEGIN:VEVENT
DTSTART;TZID=America/Chicago:20181215T020000
DTEND;TZID=America/Chicago:20181215T110000
DTSTAMP:20260419T105651
CREATED:20181213T021041Z
LAST-MODIFIED:20181213T021041Z
UID:2432-1544839200-1544871600@www.mtrf.org
SUMMARY:Birds of Winter: Swans at Riverlands
DESCRIPTION:Come and see  elegant trumpeter swans in the wild! \n\nSwan viewing with powerful spotting scopes\nActivities for all ages\nGuided bird walk\nSpecial presentation: The Swans of Riverlands
URL:https://www.mtrf.org/event/birds-of-winter-swans-at-riverlands/
LOCATION:Riverlands Migratory Bird Sanctuary\, 301 Riverlands Way\, West Alton\, MO\, 63386
CATEGORIES:Special Events
END:VEVENT
BEGIN:VEVENT
DTSTART;VALUE=DATE:20180708
DTEND;VALUE=DATE:20180714
DTSTAMP:20260419T105651
CREATED:20180228T223602Z
LAST-MODIFIED:20180228T223704Z
UID:2360-1531076400-1531508399@www.mtrf.org
SUMMARY: Little Creek Summer Camp
DESCRIPTION: Little Creek Summer Camp in Ferguson\, MO –  for more click here. 
URL:https://www.mtrf.org/event/little-creek-summer-camp/
CATEGORIES:Special Events
END:VEVENT
BEGIN:VEVENT
DTSTART;VALUE=DATE:20180706
DTEND;VALUE=DATE:20180708
DTSTAMP:20260419T105651
CREATED:20180228T221437Z
LAST-MODIFIED:20180228T221437Z
UID:2346-1530903600-1530989999@www.mtrf.org
SUMMARY:Droste Park Paddle Day
DESCRIPTION:Droste Park Paddle Day – Maryville Parks and Rec will again host Kayaking on Drost Park with the help of kayaking enthusiast Craig Heaton of the Mississippi River Water Trail Association\, his white water friends from Canoe and Kayaking Club of St. Louis\, and the Alpine Shop of St. Louis. The goal of the day is to get more boaters on the water and raise awareness to the fun and relaxation of kayaking. \nAfter an orientation of basic kayaking and safety issues\, participants will be able to try out one of 30+ kayaks on the lake and get the actual experience of paddling a kayak. Solo boaters must be at least 10 years old and parents must be present. There will be four tandem kayaks for an adult and child to share each hour. Although participants can bring their own\, life vests will be provided for all kayakers. There will be at least two or more safety boaters on the water to ensure everyone’s safety. A new session will start every hour starting at noon and last about 1 hour. The last session will begin at 4:00. \nPre-registration is requested in order to balance out the attendance during the day and ensure that everyone gets time on the water. Please contact Maryville Park & Rec at 618-772-8555 from 9:00-5:00 to reserve your spot. Walk-ins will be able to boat only if there are available kayaks.
URL:https://www.mtrf.org/event/droste-park-paddle-day/
CATEGORIES:Featured Events,Special Events
END:VEVENT
END:VCALENDAR